BEGIN:VCALENDAR
VERSION:2.0
PRODID:-//eventon.com NONSGML v1.0//EN
CALSCALE:GREGORIAN
METHOD:PUBLISH
BEGIN:VEVENT
UID:69e8f03071513
DTSTAMP:20260422T155840Z
DTSTART:20220331T133000Z
DTEND:20220331T150000Z
LOCATION:
SUMMARY:Networking and discussion event for members
DESCRIPTION:Time: Thursday 31. March from 4.30-6.00 PMPlace: Zoom Welcome t
 o share your ideas on how Finnish working life could be made better for art
  and culture professionals with international backgrounds! TAKU&#8217;s mem
 bership base is diversifying and we have more students and professionals wh
 o join us with versatile backgrounds\,  presenting diverse[..]\nhttps://tak
 u.fi/tapahtuma/networking-and-discussion-event-for-members/
URL:https://taku.fi/tapahtuma/networking-and-discussion-event-for-members/
END:VEVENT
END:VCALENDAR