BEGIN:VCALENDAR
VERSION:2.0
PRODID:-//eventon.com NONSGML v1.0//EN
CALSCALE:GREGORIAN
METHOD:PUBLISH
BEGIN:VEVENT
UID:69eb9fd8e65fd
DTSTAMP:20260424T165240Z
DTSTART:20220330T060000Z
DTEND:20220330T070000Z
LOCATION:
SUMMARY:Digiajan tyÃ¶hyvinvointi
DESCRIPTION:Aika: 30.3. klo 9-10Paikka: webinaari Webinaarisarjan toisessa 
 osassa paneudumme palautumiseen ja tyÃ¶ssÃ¤ jaksamiseen. Voisiko tyÃ¶pÃ¤ivÃ
 ¤ kehittÃ¤Ã¤ tai jopa yllÃ¤pitÃ¤Ã¤ hyvinvointia? LisÃ¤ksi tarkastelemme erg
 onomian ja stressinhallinnan vaikutusta tyÃ¶hyvinvointiin. Kouluttaja: Kris
 ta Kohtakangas (HTT) on tyÃ¶elÃ¤mÃ¤n armollisuudesta vÃ¤itellyt tyÃ¶hyvinvo
 innin ja johtamisen kehittÃ¤jÃ¤. HÃ¤nelle on tÃ¤rkeÃ¤Ã¤ antaa ihmisille oiv
 alluksia itsensÃ¤ johtamisen kyvyistÃ¤ ja rohkaista[..]\nhttps://taku.fi/ta
 pahtuma/digiajan-tyohyvinvointi2/
URL:https://taku.fi/tapahtuma/digiajan-tyohyvinvointi2/
END:VEVENT
END:VCALENDAR