BEGIN:VCALENDAR
VERSION:2.0
PRODID:-//eventon.com NONSGML v1.0//EN
CALSCALE:GREGORIAN
METHOD:PUBLISH
BEGIN:VEVENT
UID:69e61c4ae82a9
DTSTAMP:20260420T123002Z
DTSTART:20260323T170000Z
DTEND:20260323T190000Z
LOCATION:
SUMMARY:TAKUn jäsentapaaminen Jyväskylässä
DESCRIPTION:Aika: maanantai 23.3. klo 17–19Paikka: Kahvila Miriam&#8217;
 s\,  kabinetti (Kahvila Torikulma\,  Asemakatu 12\,  40100 Jyväskylä Terv
 etuloa TAKUn jäseniltapäivään tapaamaan taide- ja kulttuurialan kollego
 itasi\,  saamaan uusia kontakteja sekä keskustelemaan ajankohtaisista aihe
 ista herkullisten tarjoilujen äärelle.Toimistolta terveisiä tuo opiskel
 ijatoiminnan koordinaattori Jutta Ekman ja mahdollista paikallisvahvistus
 ta Jyväskylästä TAKUn hallituksen jäsen Paula Honkimäki. Voit ottaa m
 ukaasi myös kollegan tai tuttavan\,  joka[..]\nhttps://taku.fi/tapahtuma/t
 akun-jasentapaaminen-jyvaskylassa/
URL:https://taku.fi/tapahtuma/takun-jasentapaaminen-jyvaskylassa/
END:VEVENT
END:VCALENDAR