BEGIN:VCALENDAR
VERSION:2.0
PRODID:-//eventon.com NONSGML v1.0//EN
CALSCALE:GREGORIAN
METHOD:PUBLISH
BEGIN:VEVENT
UID:69e74832ca502
DTSTAMP:20260421T094938Z
DTSTART:20260410T060000Z
DTEND:20260410T080000Z
LOCATION:
SUMMARY:Uskalla nÃ¤kyÃ¤ â€“ esiintymisvarmuutta someen
DESCRIPTION:Aika: 10.4. klo 9â€“11Paikka: webinaari Tuntuuko kameran edessÃ
 ¤ esiintyminen jÃ¤nnittÃ¤vÃ¤ltÃ¤? MietitkÃ¶\,  miten voisit kertoa asiasi s
 elkeÃ¤sti\,  rauhallisesti ja itsevarmasti â€“ ilman ettÃ¤ Ã¤Ã¤ni tÃ¤risee 
 tai sanat katoavat? Tervetuloa webinaariin\,  jossa opit\,  miten voit esii
 ntyÃ¤ somessa aidosti\,  vakuuttavasti ja rennosti â€“ omalla tavallasi. Mi
 tÃ¤ opit webinaarissa? Webinaarin aikana kÃ¤ymme lÃ¤pi keskeisiÃ¤[..]\nhttp
 s://taku.fi/tapahtuma/uskalla-nakya-esiintymisvarmuutta-someen/
URL:https://taku.fi/tapahtuma/uskalla-nakya-esiintymisvarmuutta-someen/
END:VEVENT
END:VCALENDAR