BEGIN:VCALENDAR
VERSION:2.0
PRODID:-//eventon.com NONSGML v1.0//EN
CALSCALE:GREGORIAN
METHOD:PUBLISH
BEGIN:VEVENT
UID:69e885c4060a5
DTSTAMP:20260422T082436Z
DTSTART:20260310T130000Z
DTEND:20260310T140000Z
LOCATION:
SUMMARY:Myynti on osa asiantuntijuutta – löydä oma tapasi kasvattaa asiakkuuksia ja myyntiä
DESCRIPTION:Aika: 10.3. klo 15–16Paikka: webinaari Monille asiantuntijayr
 ittäjille myynti tuntuu vieraalta tai epämukavalta\,  vaikka se on yritys
 toiminnan elinehto. Tässä käytännönläheisessä webinaarissa opit\,  k
 uinka kasvaa asiantuntijasta myyjäksi ja miten löydät mielekkyyden myynt
 iin omalla\,  luontevalla tavallasi – ilman painostusta\,  kaavamaisia my
 yntitekniikoita tai “myyntipuheita.” Tässä webinaarissa opit avaimet 
 myynnin kasvattamiseen ja miten omasta asiantuntijuudesta[..]\nhttps://taku
 .fi/tapahtuma/myynti-on-osa-asiantuntijuutta-loyda-oma-tapasi-kasvattaa-asi
 akkuuksia-ja-myyntia/
URL:https://taku.fi/tapahtuma/myynti-on-osa-asiantuntijuutta-loyda-oma-tapasi-kasvattaa-asiakkuuksia-ja-myyntia/
END:VEVENT
END:VCALENDAR