BEGIN:VCALENDAR
VERSION:2.0
PRODID:-//eventon.com NONSGML v1.0//EN
CALSCALE:GREGORIAN
METHOD:PUBLISH
BEGIN:VEVENT
UID:69e885907e221
DTSTAMP:20260422T082344Z
DTSTART:20260302T130000Z
DTEND:20260302T150000Z
LOCATION:
SUMMARY:Osaamisen tuotteistaminen kulttuurialalla
DESCRIPTION:Aika: ma 2.3. klo 15–17Paikka: Zoom (linkin saat ilmoittautum
 isen yhteydessä) Miten tuotteistat asiantuntijuudestasi selkeän\,  hinnoi
 teltavan ja kestävää toimeentuloa tukevan palvelun? Tämä jäsenkoulutu
 s tarjoaa käytännönläheiset työkalut oman osaamisen sanoittamiseen\,  
 palveluiden tuotteistamiseen ja hinnoitteluun.  Osallistumalla > Lisäät 
 ymmärrystäsi tuotteistamisen merkityksestä  > Opit\,  miten tunnistaa
  ja sanoittaa oma osaamisesi myytäviksi palveluiksi > Saat konkreettisen 
 mallin[..]\nhttps://taku.fi/tapahtuma/osaamisen-tuotteistaminen-2026/
URL:https://taku.fi/tapahtuma/osaamisen-tuotteistaminen-2026/
END:VEVENT
END:VCALENDAR