BEGIN:VCALENDAR
VERSION:2.0
PRODID:-//eventon.com NONSGML v1.0//EN
CALSCALE:GREGORIAN
METHOD:PUBLISH
BEGIN:VEVENT
UID:69e885d42575e
DTSTAMP:20260422T082452Z
DTSTART:20260326T140000Z
DTEND:20260326T160000Z
LOCATION:
SUMMARY:Itsetuntemusta ja tyÃ¶hyvinvointia neurokirjon Ã¤Ã¤rellÃ¤
DESCRIPTION:Aika: 26.3. klo 16â€“18Paikka: webinaari Webinaarisarja: Neurok
 irjo tyÃ¶arjessa â€“ kuormituksen ymmÃ¤rtÃ¤mistÃ¤ ja hyvinvoinnin vahvistam
 ista TÃ¤mÃ¤ webinaarisarja tarjoaa psykologisesti turvallisen tilan tutkia 
 tyÃ¶arkea neurokirjolla: kuormitustekijÃ¶itÃ¤\,  tyÃ¶ssÃ¤ jaksamista ja oma
 nnÃ¤kÃ¶isiÃ¤ voimavaroja. Sarja rakentuu kahdesta toisiaan tÃ¤ydentÃ¤vÃ¤stÃ
 ¤ webinaarista\,  jotka yhdessÃ¤ muodostavat kokonaisuuden â€” mutta molemp
 iin voi osallistua myÃ¶s erikseen\,  oman tilanteen ja tarpeen[..]\nhttps:/
 /taku.fi/tapahtuma/itsetuntemusta-ja-tyohyvinvointia-neurokirjon-aarella/
URL:https://taku.fi/tapahtuma/itsetuntemusta-ja-tyohyvinvointia-neurokirjon-aarella/
END:VEVENT
END:VCALENDAR