BEGIN:VCALENDAR
VERSION:2.0
PRODID:-//eventon.com NONSGML v1.0//EN
CALSCALE:GREGORIAN
METHOD:PUBLISH
BEGIN:VEVENT
UID:69e7366749c23
DTSTAMP:20260421T083343Z
DTSTART:20240528T140000Z
DTEND:20240528T151500Z
LOCATION:
SUMMARY:TJS kouluttaa: Ikäsyrjintä työmarkkinoilla
DESCRIPTION:Aika: 28.5. klo 17-18.15Paikka: webinaari Koulutus on suunnattu
  erityisesti akavalaisten ja STTK:laisten liittojen työttömille ja tyött
 ömyysuhan alla oleville jäsenille\,  mutta osallistua saavat kaikki\,  jo
 ita aihe kiinnostaa. Koulutus on maksuton. Koulutuksen tavoitteena on antaa
  tutkimustietoa ikäsyrjinnästä työmarkkinoilla. Miten ikäsyrjintä ilm
 enee\,  miten laajasta asiasta on kyse\,  ja voiko sille tehdä jotain. Mei
 llä[..]\nhttps://taku.fi/tapahtuma/tjs-kouluttaa-ikasyrjinta-tyomarkkinoil
 la/
URL:https://taku.fi/tapahtuma/tjs-kouluttaa-ikasyrjinta-tyomarkkinoilla/
END:VEVENT
END:VCALENDAR