BEGIN:VCALENDAR
VERSION:2.0
PRODID:-//eventon.com NONSGML v1.0//EN
CALSCALE:GREGORIAN
METHOD:PUBLISH
BEGIN:VEVENT
UID:69e885907f740
DTSTAMP:20260422T082344Z
DTSTART:20240321T063000Z
DTEND:20240321T080000Z
LOCATION:
SUMMARY:Mielen hyvinvointi taide-\,  kulttuuri- ja tapahtuma-alojen asiantuntijatyössä 
DESCRIPTION:Aika:&nbsp;torstaisin 21.3.\,  4.4. ja 18.4. klo 8.30–10.00 Z
 oomissa.Paikka:&nbsp;ZoomKohderyhmä: Taiteen\,  kulttuurin ja tapahtumien 
 parissa toimivat asiantuntijat Teetkö töitä tuotannon\,  kehittämisen j
 a suunnittelutehtävien parissa? Tule mukaan oivaltamaan ja keskustelemaan!
  Mukaan mahtuu 12 TAKUn jäsentä\,  paikat täytetään ilmoittautumisjär
 jestyksessä. Ilmoittaudu 14.3. mennessä >> Ryhmän työskentelyä fasilit
 oivat erityisasiantuntija Heli Ansio ja erikoistutkija Sara Lindström Työ
 terveyslaitoksesta.[..]\nhttps://taku.fi/tapahtuma/mielen-hyvinvointi-asian
 tuntijat/
URL:https://taku.fi/tapahtuma/mielen-hyvinvointi-asiantuntijat/
END:VEVENT
END:VCALENDAR