BEGIN:VCALENDAR
VERSION:2.0
PRODID:-//eventon.com NONSGML v1.0//EN
CALSCALE:GREGORIAN
METHOD:PUBLISH
BEGIN:VEVENT
UID:69e89b1b4fe86
DTSTAMP:20260422T095539Z
DTSTART:20240405T053000Z
DTEND:20240405T070000Z
LOCATION:
SUMMARY:Mielen hyvinvointi taide-\,  kulttuuri- ja tapahtuma-alojen esihenkilötyössä 
DESCRIPTION:Aika:&nbsp;perjantaisin 5.4.\,  19.4. ja 3.5. klo 8.30–10.00P
 aikka:&nbsp;ZoomKohderyhmä: Taiteen\,  kulttuurin ja tapahtumien parissa t
 oimivat esihenkilöt Toimitko esihenkilönä pienessä työyhteisössä tai
  johdatko isoa tiimiä? Tervetuloa mukaan vertaisryhmään! Mukaan mahtuu 1
 2 TAKUn jäsentä\,  paikat täytetään ilmoittautumisjärjestyksessä. Il
 moittaudu 28.3. mennessä >> Ryhmän työskentelyä fasilitoivat erityisasi
 antuntija Heli Ansio ja vanhempi asiantuntija Susanna Visuri Työterveyslai
 toksesta. Heli[..]\nhttps://taku.fi/tapahtuma/mielen-hyvinvointi-esihenkilo
 t/
URL:https://taku.fi/tapahtuma/mielen-hyvinvointi-esihenkilot/
END:VEVENT
END:VCALENDAR